BEGIN:VCALENDAR
VERSION:2.0
PRODID:-//Earl Gardner Ministries - ECPv6.15.20//NONSGML v1.0//EN
CALSCALE:GREGORIAN
METHOD:PUBLISH
X-WR-CALNAME:Earl Gardner Ministries
X-ORIGINAL-URL:https://earlgardner.org
X-WR-CALDESC:Events for Earl Gardner Ministries
REFRESH-INTERVAL;VALUE=DURATION:PT1H
X-Robots-Tag:noindex
X-PUBLISHED-TTL:PT1H
BEGIN:VTIMEZONE
TZID:America/Detroit
BEGIN:DAYLIGHT
TZOFFSETFROM:-0500
TZOFFSETTO:-0400
TZNAME:EDT
DTSTART:20230312T070000
END:DAYLIGHT
BEGIN:STANDARD
TZOFFSETFROM:-0400
TZOFFSETTO:-0500
TZNAME:EST
DTSTART:20231105T060000
END:STANDARD
BEGIN:DAYLIGHT
TZOFFSETFROM:-0500
TZOFFSETTO:-0400
TZNAME:EDT
DTSTART:20240310T070000
END:DAYLIGHT
BEGIN:STANDARD
TZOFFSETFROM:-0400
TZOFFSETTO:-0500
TZNAME:EST
DTSTART:20241103T060000
END:STANDARD
BEGIN:DAYLIGHT
TZOFFSETFROM:-0500
TZOFFSETTO:-0400
TZNAME:EDT
DTSTART:20250309T070000
END:DAYLIGHT
BEGIN:STANDARD
TZOFFSETFROM:-0400
TZOFFSETTO:-0500
TZNAME:EST
DTSTART:20251102T060000
END:STANDARD
END:VTIMEZONE
BEGIN:VEVENT
DTSTART;TZID=America/Detroit:20240906T080000
DTEND;TZID=America/Detroit:20241002T170000
DTSTAMP:20260424T053206
CREATED:20240428T073519Z
LAST-MODIFIED:20241001T211355Z
UID:2158-1725609600-1727888400@earlgardner.org
SUMMARY:Registration Open | Financial Freedom Series – Online | Course Three | Investing 101
DESCRIPTION:Registration for Course Three – INVESTING 101 opens Friday\, September 06\, 2024 \n\n\n\n—>REGISTRATION OPEN NOW – REGISTER HERE<—- \n\n\n\nCourse Three: Investing 101 \n\n\n\n\n8 online sessions\n\n\n\njumpstart your investing\n\n\n\nlearn how to build wealth\n\n\n\nlearn what to do and what not to do\n\n\n\ncreate a generational legacy\n\n\n\n\nInstructor: LuAnn Gardner \n\n\n\nCourse Dates: \n\n\n\nSession 1 | Lessons From the Parable of the TalentsVideo/Homework Released | Sunday\, September 29\, 2024Online Zoom Session | Thursday\, October 03\, 2024 | 7:00pm \n\n\n\nSession 2 | Entrusted with Purpose: Barry FailedVideo/Homework Released | Sunday\, October 06\, 2024Online Zoom Session | Thursday\, October 10\, 2024 | 7:00pm \n\n\n\nSession 3 | From Fear to Faith: Stewardship Lessons from the Parable of the TalentsVideo/Homework Released | Sunday\, October 13\, 2024Online Zoom Session | Thursday\, October 17\, 2024 | 7:00pm \n\n\n\nSession 4 | Multiplying the Master’s Gifts: A Lesson in StewardshipVideo/Homework Released | Sunday\, October 13\, 2024Online Zoom Session | Thursday\, October 24\, 2024 | 7:00pm \n\n\n\nSession 5 | Entrusted and Accountable: Embracing the Call of StewardshipVideo/Homework Released | Sunday\, October 27\, 2024Online Zoom Session | Thursday\, October 31\, 2024 | 7:00pm \n\n\n\nSession 6 | Stewards of Opportunity: How to Grow What’s Been GivenVideo/Homework Released | Sunday\, November 03\, 2024Online Zoom Session | Thursday\, November 07\, 2024 | 7:00pm \n\n\n\nSession 7 | Trust\, Talent\, and Transformation: A Steward’s ResponsibilityVideo/Homework Released | Sunday\, November 10\, 2024Online Zoom Session | Thursday\, November 14\, 2024 | 7:00pm \n\n\n\nSession 8 | Faithful with Little\, Rulers over Much: Lessons in StewardshipVideo/Homework Released | Sunday\, November 17\, 2024Online Zoom Session | Thursday\, November 21\, 2024 | 7:00pm \n\n\n\n\n\n\n\n\n\n\n\n\n\n\n\nOnline Financial Freedom Series | 3 Courses each 8 weeks\n\n\n\nEarl Gardner Ministries and Truth Driven Ministries are partnering to bring you the transformational series – FINANCIAL FREEDOM.  The combination of these three online courses are designed to help you: \n\n\n\n\nGet free\n\n\n\nGet a plan\n\n\n\nGet multiplying\n\n\n\n\n \n\n\n\nGet Free with:Course One – Emotions and Money-8 online sessions-transform your money mindsets-eliminate self-sabotage-tear down false beliefs-create a new relationship with moneyRegistration opens: Friday\, May 03\, 2024Online Course: Thursday\, June 06\, 2024 – Thursday\, August 01\, 2024Cost: $300 for 8-Week Course | Payment Plan AvailableClasswork is released on Sunday before class via login to the online courseOnline Class held via ZOOM at 7:00 pm on Thursdays \n\n\n\n\n\n\n\nGet a Plan with:Course Two – Kingdom Finance Plan-8 online sessions-get an action plan-eliminate debt and stay debt-free-experience financial freedom-learn Kingdom money mindsetsRegistration opens: Friday\, July 05\, 2024Online Course: Thursday\, August 08\, 2024 – Thursday\, September 26\, 2024Cost: $300 for 8-Week Course | Payment Plan AvailableClasswork is released on Sunday before class via login to the online courseOnline Class held via ZOOM at 7:00 pm on Thursdays \n\n\n\n\n\n\n\nGet Multiplying with:Course Three – Investing 101-8 online sessions-jumpstart your investing-learn how to build wealth-learn what to do and what not to do-create a generational legacyRegistration opens: Friday\, September 06\, 2024Online Course: Thursday\, October 03\, 2024 – Thursday\, November 21\, 2024Cost: $300 for 8-Week Course | Payment Plan AvailableClasswork is released on Sunday before class via login to the online courseOnline Class held via ZOOM at 7:00 pm on Thursdays
URL:https://earlgardner.org/event/registration-open-financial-freedom-series-online-course-three-investing-101/
CATEGORIES:Online Courses
ATTACH;FMTTYPE=image/png:https://earlgardner.org/wp-content/uploads/2024/04/finance-series-3-course-fb-3rd-course.png
END:VEVENT
BEGIN:VEVENT
DTSTART;TZID=America/Detroit:20240705T080000
DTEND;TZID=America/Detroit:20240807T170000
DTSTAMP:20260424T053206
CREATED:20240428T071658Z
LAST-MODIFIED:20240705T033502Z
UID:2153-1720166400-1723050000@earlgardner.org
SUMMARY:Registration Open | Financial Freedom Series – Online | Course Two | Kingdom Finance Plan
DESCRIPTION:Click Here—–>Register NOW for Course Two – KINGDOM FINANCE PLAN<—–Click Here\n\n\n\n\n\n\n\nCourse Two: Kingdom Finance Plan \n\n\n\n\n8 online sessions\n\n\n\nget an action plan\n\n\n\neliminate debt and stay debt-free\n\n\n\nexperience financial freedom\n\n\n\nlearn Kingdom money mindsets\n\n\n\n\nInstructor: Earl Gardner \n\n\n\nCourse Dates: \n\n\n\nSession 1 | TBAVideo/Homework Released | Sunday\, August 04\, 2024Online Zoom Session | Thursday\, August 08\, 2024 | 7:00pm \n\n\n\nSession 2 | TBAVideo/Homework Released | Sunday\, August 11\, 2024Online Zoom Session | Thursday\, August 15\, 2024 | 7:00pm \n\n\n\nSession 3 | TBAVideo/Homework Released | Sunday\, August 18\, 2024Online Zoom Session | Thursday\, August 22\, 2024 | 7:00pm \n\n\n\nSession 4 | TBAVideo/Homework Released | Sunday\, August 25\, 2024Online Zoom Session | Thursday\, August 29\, 2024 | 7:00pm \n\n\n\nSession 5 | TBAVideo/Homework Released | Sunday\, September 01\, 2024Online Zoom Session | Thursday\, September 05\, 2024 | 7:00pm \n\n\n\nSession 6 | TBAVideo/Homework Released | Sunday\, September 08\, 2024Online Zoom Session | Thursday\, September 12\, 2024 | 7:00pm \n\n\n\nSession 7 | TBAVideo/Homework Released | Sunday\, September 15\, 2024Online Zoom Session | Thursday\, September 19\, 2024 | 7:00pm \n\n\n\nSession 8 | TBAVideo/Homework Released | Sunday\, September 22\, 2024Online Zoom Session | Thursday\, September 26\, 2024 | 7:00pm \n\n\n\n\n\n\n\n\n\n\n\n\n\n\n\nOnline Financial Freedom Series | 3 Courses each 8 weeks\n\n\n\nEarl Gardner Ministries and Truth Driven Ministries are partnering to bring you the transformational series – FINANCIAL FREEDOM.  The combination of these three online courses are designed to help you: \n\n\n\n\nGet free\n\n\n\nGet a plan\n\n\n\nGet multiplying\n\n\n\n\n \n\n\n\nGet Free with:Course One – Emotions and Money-8 online sessions-transform your money mindsets-eliminate self-sabotage-tear down false beliefs-create a new relationship with moneyRegistration opens: Friday\, May 03\, 2024Online Course: Thursday\, June 06\, 2024 – Thursday\, August 01\, 2024Cost: $300 for 8-Week Course | Payment Plan AvailableClasswork is released on Sunday before class via login to the online courseOnline Class held via ZOOM at 7:00 pm on Thursdays \n\n\n\n\n\n\n\nGet a Plan with:Course Two – Kingdom Finance Plan-8 online sessions-get an action plan-eliminate debt and stay debt-free-experience financial freedom-learn Kingdom money mindsetsRegistration opens: Friday\, July 05\, 2024Online Course: Thursday\, August 08\, 2024 – Thursday\, September 26\, 2024Cost: $300 for 8-Week Course | Payment Plan AvailableClasswork is released on Sunday before class via login to the online courseOnline Class held via ZOOM at 7:00 pm on Thursdays \n\n\n\n\n\n\n\nGet Multiplying with:Course Three – Investing 101-8 online sessions-jumpstart your investing-learn how to build wealth-learn what to do and what not to do-create a generational legacyRegistration opens: Friday\, September 06\, 2024Online Course: Thursday\, October 03\, 2024 – Thursday\, November 21\, 2024Cost: $300 for 8-Week Course | Payment Plan AvailableClasswork is released on Sunday before class via login to the online courseOnline Class held via ZOOM at 7:00 pm on Thursdays
URL:https://earlgardner.org/event/registration-open-financial-freedom-series-online-course-two-kingdom-finance-plan/
CATEGORIES:Online Courses
ATTACH;FMTTYPE=image/png:https://earlgardner.org/wp-content/uploads/2024/04/finance-series-3-course-fb-2ND-course.png
END:VEVENT
BEGIN:VEVENT
DTSTART;TZID=America/Detroit:20240503T080000
DTEND;TZID=America/Detroit:20240605T170000
DTSTAMP:20260424T053206
CREATED:20240428T065246Z
LAST-MODIFIED:20240511T153446Z
UID:2143-1714723200-1717606800@earlgardner.org
SUMMARY:Registration Open | Financial Freedom Series - Online | Course One | Emotions and Money
DESCRIPTION:Click here—–> Register for EMOTIONS AND MONEY <—– Click here \n\n\n\nCourse One: EMOTIONS AND MONEY \n\n\n\n\n8 online sessions\n\n\n\ntransform your money mindsets\n\n\n\neliminate self-sabotage\n\n\n\ntear down false beliefs\n\n\n\ncreate a new relationship with money\n\n\n\n\nInstructor: Angie Lynch \n\n\n\nCourse Dates: \n\n\n\nSession 1 | Emotions\, Money\, and Your PastVideo/Homework Released | Sunday\, June 02\, 2024Online Zoom Session | Thursday\, June 06\, 2024 | 7:00pm \n\n\n\nSession 2 | Emotions\, Money\, Your Present and Your FutureVideo/Homework Released | Sunday\, June 09\, 2024Online Zoom Session | Thursday\, June 13\, 2024 | 7:00pm \n\n\n\nSession 3 | Your False BeliefsVideo/Homework Released | Sunday\, June 16\, 2024Online Zoom Session | Thursday\, June 20\, 2024 | 7:00pm \n\n\n\nSession 4 | Emotional and Financial TriggersVideo/Homework Released | Sunday\, June 23\, 2024Online Zoom Session | Thursday\, June 27\, 2024 | 7:00pm \n\n\n\nSession 5 | The Sting of RealityVideo/Homework Released | Sunday\, July 07\, 2024Online Zoom Session | Thursday\, July 11\, 2024 | 7:00pm \n\n\n\nSession 6 | Interrupting the CycleVideo/Homework Released | Sunday\, July 14\, 2024Online Zoom Session | Thursday\, July 18\, 2024 | 7:00pm \n\n\n\nSession 7 | Creating a New Financial StoryVideo/Homework Released | Sunday\, July 21\, 2024Online Zoom Session | Thursday\, July 25\, 2024 | 7:00pm \n\n\n\nSession 8 | Freedom in FinancesVideo/Homework Released | Sunday\, July 28\, 2024Online Zoom Session | Thursday\, August 01\, 2024 | 7:00pm \n\n\n\n\n\n\n\n\n\n\n\n\n\n\n\nOnline Financial Freedom Series | 3 Courses each 8 weeks\n\n\n\nEarl Gardner Ministries and Truth Driven Ministries are partnering to bring you the transformational series – FINANCIAL FREEDOM.  The combination of these three online courses are designed to help you: \n\n\n\n\nGet free\n\n\n\nGet a plan\n\n\n\nGet multiplying\n\n\n\n\n \n\n\n\nGet Free with:Course One – Emotions and Money-8 online sessions-transform your money mindsets-eliminate self-sabotage-tear down false beliefs-create a new relationship with moneyRegistration opens: Friday\, May 03\, 2024Online Course: Thursday\, June 06\, 2024 – Thursday\, August 01\, 2024Cost: $300 for 8 Week Course | Payment Plan AvailableClasswork is released on Sunday before class via login to the online courseOnline Class held via ZOOM at 7:00 pm on Thursdays \n\n\n\n\n\n\n\nGet a Plan with:Course Two – Kingdom Finance Plan-8 online sessions-get an action plan-eliminate debt and stay debt-free-experience financial freedom-learn Kingdom money mindsetsRegistration opens: Friday\, July 05\, 2024Online Course: Thursday\, August 08\, 2024 – Thursday\, September 26\, 2024Cost: $300 for 8 Week Course | Payment Plan AvailableClasswork is released on Sunday before class via login to the online courseOnline Class held via ZOOM at 7:00 pm on Thursdays \n\n\n\n\n\n\n\nGet Multiplying with:Course Three – Investing 101-8 online sessions-jumpstart your investing-learn how to build wealth-learn what to do and what not to do-create a generational legacyRegistration opens: Friday\, September 06\, 2024Online Course: Thursday\, October 03\, 2024 – Thursday\, November 21\, 2024Cost: $300 for 8 Week Course | Payment Plan AvailableClasswork is released on Sunday before class via login to the online courseOnline Class held via ZOOM at 7:00 pm on Thursdays
URL:https://earlgardner.org/event/registration-open-financial-freedom-series-online-course-one-emotions-and-money/
CATEGORIES:Online Courses
ATTACH;FMTTYPE=image/png:https://earlgardner.org/wp-content/uploads/2024/04/finance-series-3-course-fb-1st-course.png
END:VEVENT
END:VCALENDAR